BEGIN:VCALENDAR
PRODID:-//Det Danske Spejderkorps//NONSGML Gruppeweb//EN
VERSION:2.0
CALSCALE:GREGORIAN
X-PUBLISHED-TTL:PT1H
X-WR-CALNAME:Ledere
METHOD:PUBLISH
BEGIN:VEVENT
UID:gruppeweb.dk:2615:event:2056
DTSTAMP:20260421T151104Z
LAST-MODIFIED:20250817T183652Z
SUMMARY:Roskilde Airshow 2025
DESCRIPTION:*Hvilke opgaver skal løses?*\n\nVi skal betjene ølvogne. kør
 e VIP-gæster og opstille og tømme  \naffaldstønder rundt om på hele pl
 adsen.\n\n\n*Hvem kan hjælpe?*\n\nAlle fra tropsspejder (10år) og opefte
 r inklusiv forældre og andre du  \nkender. man skal dog være min. 18 år
  for at står i ølvognene og min. 25  \når og have kørekort for at kør
 e VIP-gæster.\n\n\n*Hvad får jeg for det?*\n\nDu får gratis adgang til 
 Airshowet den dag\, du er på vagt inklusiv let  \nforplejning under din(e
 ) vagt(er).\n\nog så får du selskab af en masse glade mennesker og flyen
 tusiaster. \n\n\nHvis det er lige meget om du står i ølvogn eller samle
 r affald så sætter  \ndu dig på begge dele.\nEller det er også muligt 
 at køre VIP-kørsel om formiddagen og ølvogn  \neller affald om eftermid
 dagen eller omvendt så kan du også det.   \n\nHar du spørgsmål så k
 an du kontakte Christian Skjold Cordes på 60835708  \neller på mail bjar
 keairshow@gmail.com\n\n\n\n\n
URL:https://bjarkegruppe.dk/begivenhed/roskilde-airshow-2025
DTSTART:20250823T040000Z
DTEND:20250824T214500Z
LOCATION:Roskilde Lufthavn\, Lufthavnsvej 30\, 4000 Roskilde
END:VEVENT
BEGIN:VEVENT
UID:gruppeweb.dk:2615:event:2241
DTSTAMP:20260421T151104Z
LAST-MODIFIED:20251021T113801Z
SUMMARY:Sommertidstur 2026
DESCRIPTION:\n
URL:https://bjarkegruppe.dk/begivenhed/sommertidstur-2026
DTSTART;VALUE=DATE:20260321
DTEND;VALUE=DATE:20260323
LOCATION:Bjarke Gruppe\, Bjældevej 25\, 4000 Roskilde
END:VEVENT
BEGIN:VEVENT
UID:gruppeweb.dk:2615:event:2259
DTSTAMP:20260421T151104Z
LAST-MODIFIED:20251021T124011Z
SUMMARY:Oprykning
DESCRIPTION:\n
URL:https://bjarkegruppe.dk/begivenhed/oprykning-3
DTSTART:20260903T160000Z
DTEND:20260903T180000Z
LOCATION:Bjarke Gruppe\, Bjældevej 25\, 4000 Roskilde
END:VEVENT
BEGIN:VEVENT
UID:gruppeweb.dk:2615:event:2267
DTSTAMP:20260421T151104Z
LAST-MODIFIED:20260213T040346Z
SUMMARY:slag af lodsedler
DESCRIPTION:*\n*\n\nKære spejdere\, forældre og venner af Bjarke Gruppen\
 n\nSom mange ved\, har vi i Bjarke Gruppen hvert år haft forskellige  \nb
 egivenheder\, der har givet os lidt ekstra indkomst til sjove aktiviteter 
 og  \nspændende ture.\nDesværre bliver 2026 et lidt anderledes år – v
 i har nemlig ikke nogle  \nindtægtsgivende arrangementer i kalenderen.\n\
 nMen! 💪\nBestyrelsen har derfor været på udkig efter nye muligheder\,
  og vi har fået  \nen fantastisk chance for at støtte et godt formål 
 – og samtidig tjene  \nlidt til gruppen.\n\nVi har indgået et samarbejd
 e med Kræftens Bekæmpelse\, som har brug for  \nhjælp til at sælge lod
 der i lokalområdet. Alt foregår via deres app\, så  \nder er ingen peng
 ehåndtering – det hele klares digitalt og sikkert.\nFor hvert lod\, vi 
 sælger til 50 kr.\, får Bjarke Gruppen 20 kr. til vores  \nfælles aktiv
 iteter og ture. 🙌\n\n📅 Søndag den 7. december kl. 10:00 mødes vi i
  hytten\, hvor vi starter  \nmed en kort introduktion og fordeling af omr
 åder.\nDerefter går vi ud i ca. 2 timer for at samle ind til den gode sa
 g.\n\nEfterfølge vil der være noget varmt at drikke og æbleskiver i hyt
 ten. \n\nSå kom frisk – tag uniformen på\, et smil med\, og vær med 
 til at gøre en  \nforskel for både\nBjarke Gruppen og Kræftens Bekæmpe
 lse! 💛\n\nKan man ikke deltage på dagen er man velkommen at tage fat i
  Christian på  \n60835708 eller på formand@bjarkegruppe.dk [1]. hvis man
  godt vil sælge  \nnogle udover på dagen. \n\nFor vi bedst mulig at kun
 ne planlægge ruter og hold\nmå i gerne gerne melde retur hvor mange der 
 kommer.\n\nVi glæder os til at se jer!\n\nSpejderhilsen\nBjarke Gruppens 
 bestyrelse      \n\n\n\n[1] mailto:formand@bjarkegruppe.dk\n
URL:https://bjarkegruppe.dk/begivenhed/slag-af-lodsedler
DTSTART:20251207T090000Z
DTEND:20251207T113000Z
LOCATION:Bjarke Gruppe\, Bjældevej 25\, 4000 Roskilde
END:VEVENT
BEGIN:VEVENT
UID:gruppeweb.dk:2615:event:2298
DTSTAMP:20260421T151104Z
LAST-MODIFIED:20260213T040233Z
SUMMARY:Grupperådsmøde
DESCRIPTION:*Grupperådsmøde*\nBjarke Gruppe inviterer til grupperådsmød
 e for forældre og ledere.\n\nSøndag d. 8. februar 2026\n\n\n\nKl. 10 - 1
 3\n\n\n\nBjældehytten\, Bjældevej 25\, 4000 Roskilde\n\n\n\n\nMens\ngrup
 perådsmødet afholdes\, arrangerer vi fastelavn med tøndeslagning for\ns
 pejdere og deres søskende.\n\n\n\nAlle børn er meget velkomne – gerne 
 udklædte!\n\n\n\n \n\nDer vil\nblive serveret fastelavnsboller\, inden m
 ødet slutter.\n\n\n\nVi håber at\nse mange både til mødet og fastelavn
 .\n\n\n\nTilmeld jer\npå hjemmesiden.\n\n\n\n \n\n*Spejderhilsen\n*\n\n\
 n\nBjarke\nGruppe \n\n\n\n
URL:https://bjarkegruppe.dk/begivenhed/grupperaadsmoede-1
DTSTART:20260208T090000Z
DTEND:20260208T120000Z
LOCATION:Bjarke Gruppe\, Bjældevej 25\, 4000 Roskilde
END:VEVENT
BEGIN:VEVENT
UID:gruppeweb.dk:2615:event:2360
DTSTAMP:20260421T151104Z
LAST-MODIFIED:20260315T183139Z
SUMMARY:Sommertidstur 2026
DESCRIPTION:Indbydelse til sommertidstur 2026\nKom udklædt som din yndling
 s detektiv !!\nVi vil gerne indbyde alle spejder\, søskende og forældre 
 til vores\nsommertidstur\,\nsom afholdes d.21-22 marts 2026\nStedet er ”
 klinteborg” Adresse er\nRibsvej 9\, 4550 Fårevejle.\nVi mødes kl.10 l
 ørdag og tager hjem igen søndag kl.11\nVi skal hjælpe Holmes og Watson 
 med at løse\nspejdermysteriet\nAlt det vil foregå i et stjerneløb hvor 
 i konkurrerer mod hinanden i\npatruljerne som i er delt op i.\nMikro\, min
 i sover indenfor sammen med deres forældre og junior og\ntrop sover udenf
 or. Forældre til junior og trop kan sove indenfor.\n\n\n\nTing du skal ha
 ve med\nDet du skal medbringe er\, hvis du sover inde\, skal du medbringe 
 lagen\,  \nsovepose/dyne\n”Hovedpude”\, sovedyr\, tøj til vejret\, de
 t kan god sne i slutningen af  \nmarts måned\, tørklæde\,\nuniform hvis
  du har\, toiletgrej\, indendørs sutter\, lommelygte og det du  \nmener d
 u har brug for\ntil denne herlige weekend.\nDet du skal medbringe er\, hvi
 s du sover ude\, skal du medbringe sovepose\,  \nliggeunderlag\,\n”hoved
 pude”\, sovedyr\, tøj til vejret\, det kan godt sne i slutningen af  \n
 marts måned\, tørklæde\,\nuniform hvis du har\, toiletgrej\, indendørs
  sutter\, lommelygte og det du  \nmener du har brug for\ntil denne herlig 
 weekend.\nTilmelding til sommertidstur\nTilmelding foregår på vores hjem
 meside\, sammen med betaling\nsenest fredag d.13/3-2026*\n*\n\n
URL:https://bjarkegruppe.dk/begivenhed/sommertidstur-2026-0
DTSTART:20260321T090000Z
DTEND:20260322T100000Z
LOCATION:Klinteborg
END:VEVENT
BEGIN:VEVENT
UID:gruppeweb.dk:2615:event:2369
DTSTAMP:20260421T151104Z
LAST-MODIFIED:20260325T180122Z
SUMMARY:Arbejdsdag
DESCRIPTION:\n
URL:https://bjarkegruppe.dk/begivenhed/arbejdsdag-4
DTSTART:20260412T080000Z
DTEND:20260412T130000Z
LOCATION:Bjarke Gruppe\, Bjældevej 25\, 4000 Roskilde
END:VEVENT
BEGIN:VEVENT
UID:gruppeweb.dk:2615:event:2151
DTSTAMP:20260421T151104Z
LAST-MODIFIED:20250405T111648Z
SUMMARY:Leder bestyrelses weekend
DESCRIPTION:Så er der oprettet tilmelding til vores lederbestyrelses weeke
 nd.Leder  \nbestyrelsesweekenden er for ledere og bestyrelsesmedlemmer. De
 t bliver i  \nweekenden 9 – 11 maj\, hvor vi starter fredag eftermiddag/
 aften efter  \narbejdstid/skole Vi har adgang fra ca kl 18.00 fredag og re
 gner med at slutte  \nsenest kl 11.00 søndag.Vores formand har lejet en h
 ytte langt ude på  \nvestsjælland\, med mulighed for at sove\nudendørs 
 i shelter\, telt eller helt i det fri. Man kan også komme til at  \nsove 
 indendørs på rigtige senge i lederrum. Det er tæt på badestrandene  \n
 ved storebælt (ca 200 m)\, så husk at pakke både badetøj og håndklæd
 e.  \nMen der er også toilet og vaske mulighed i hytten. Kobæk hytten li
 gge på  \nLærkevej 15\, 4230 Skælskør\, Danmark  \nhttps://hytteforteg
 nelsen.dk/hytte/kobaek-hytten/I løbet af weekenden skal  \nvi arbejde med
  nogle for gruppen vigtige ting\, men også have mulighed for at  \nlære 
 hinanden endnu bedre at kende. Måske er der også et par stykker som  \nf
 år flyttet deres personlige grænser\, hvis de har lyst til det.\nPakkeli
 ste:\nI skal pakke til både at kunne opholde jer inde og ude. Så besøg 
 en vejr  \ntjeneste når i pakker.\nHvis I vil sove udenfor\, skal I selv 
 medbringe grej til det. Ellers er der  \nmadresser i Hytten.\nHusk et par 
 gode sko\, da vi nok skal kunne gå et par km i løbet af  \nweekenden.\nE
 VT badetøj\, men det beslutter i selv.\nHusk også gerne en blok og noget
  skrive værktøj.  De bedste hilsner fra  \nteametChristian C./Palle\n
URL:https://bjarkegruppe.dk/begivenhed/leder-bestyrelses-weekend
DTSTART:20250508T220000Z
DTEND:20250511T090000Z
LOCATION:Bjarke Gruppe\, Bjældevej 25\, 4000 Roskilde
END:VEVENT
BEGIN:VEVENT
UID:gruppeweb.dk:2615:event:2152
DTSTAMP:20260421T151104Z
LAST-MODIFIED:20250405T111648Z
SUMMARY:Vi havde en fest\, men så kom Preben
DESCRIPTION:Nogle har måske allerede hørt om Preben! \n\n\n\nNår Rikke 
 Østergaard fortæller om "Preben" og hvad han\ngør for energien på en a
 rbejdsplads\, så tænker I måske\, men at være  \nspejder er\njo ikke e
 t arbejde? Det er helt rigtigt\, det er ikke et arbejde. Det er meget\nmer
 e vigtigt\, da det er vores fritid. Konflikter og stress påvirke os på  
 \nsamme\nmåde i vores fritid som på vores arbejde. Derfor kan vi bruge d
 e samme\nværktøjer til spejder som i vores arbejde. Rikke Østergaard f
 ortæller  \npå\nen meget levende måde og forskellige typer af Preben\, 
 som vi alle kan spejle  \nos\ni\, Hun fortæller også om hvad vi kan gør
 e for at få den gode energi i  \nfokus.\n\n\n\nBestyrelsen har besluttet 
 at invitere alle ledere\, klanspejdere og\ncivile i bestyrelsen på "kursu
 s" om hvordan vi kan slippe Preben fri\nigen også i vores fritid.\nForedr
 aget er kl 19\, så vi kan evt mødes et sted i nærheden af  \nRoskildeha
 llerne og spise lidt hvis nogen har lyst og mulighed for det.   \n\n\n\n
 \nLidt om Rikke\nØstergaard.\nMed sin baggrund som mental sundhedsekspert
 \, ledelsesrådgiver\,\nsociolog og ekspert i mindfulness har Rikke Øster
 gaard specialiseret sig i\nstress\, konfliktløsning\, samarbejde\, mindfu
 lness og ikke mindst  \narbejdsglæde.\nHun er Danmarks første erhvervsso
 ciolog og fungerer som gæsteunderviser på\nUniversity of Sydneys lederak
 ademi. Hun er også forfatter til flere bøger\,  \nog\nbl.a. bestselleren
  ”Vi havde en fest på arbejdet\, men så kom Preben”. I  \n2024\nudko
 m hendes nye bog “Befri Preben … og få en fest på arbejdet igen”.\
 n\nhttps://www.roskildekongrescenter.dk/arrangementer/foredrag-med-rikke-o
 estergaard-befri-preben\n\n\n\n\n\n
URL:https://bjarkegruppe.dk/begivenhed/vi-havde-en-fest-men-saa-kom-preben
DTSTART:20250827T170000Z
DTEND:20250827T190000Z
LOCATION:Bjarke Gruppe\, Bjældevej 25\, 4000 Roskilde
END:VEVENT
BEGIN:VEVENT
UID:gruppeweb.dk:2615:event:2160
DTSTAMP:20260421T151104Z
LAST-MODIFIED:20250630T144741Z
SUMMARY:Ledere møde
DESCRIPTION:
URL:https://bjarkegruppe.dk/begivenhed/ledere-moede
DTSTART;VALUE=DATE:20260519
LOCATION:
END:VEVENT
BEGIN:VEVENT
UID:gruppeweb.dk:2615:event:2161
DTSTAMP:20260421T151104Z
LAST-MODIFIED:20250630T144743Z
SUMMARY:Ledere møde
DESCRIPTION:
URL:https://bjarkegruppe.dk/begivenhed/ledere-moede-0
DTSTART;VALUE=DATE:20260324
LOCATION:
END:VEVENT
BEGIN:VEVENT
UID:gruppeweb.dk:2615:event:2162
DTSTAMP:20260421T151104Z
LAST-MODIFIED:20250630T144744Z
SUMMARY:Ledere møde
DESCRIPTION:
URL:https://bjarkegruppe.dk/begivenhed/ledere-moede-1
DTSTART;VALUE=DATE:20260120
LOCATION:
END:VEVENT
BEGIN:VEVENT
UID:gruppeweb.dk:2615:event:2163
DTSTAMP:20260421T151104Z
LAST-MODIFIED:20250630T144745Z
SUMMARY:Ledere møde
DESCRIPTION:
URL:https://bjarkegruppe.dk/begivenhed/ledere-moede-2
DTSTART;VALUE=DATE:20251021
LOCATION:
END:VEVENT
BEGIN:VEVENT
UID:gruppeweb.dk:2615:event:2234
DTSTAMP:20260421T151104Z
LAST-MODIFIED:20250914T104633Z
SUMMARY:Hvor er vi på vej hen? Leder bestyrelses dag.
DESCRIPTION:Kære alle ledere og bestyrelses medlemmer.\n\nSom vi tidligere
  har aftalt så der der et dags møde søndag den 28  \nseptember 2025\, h
 vor vi skal arbejde med hvor vi skal hen med vores dejlige  \nspejdergrupp
 e. \n\nVi mødes kl 09:00 til fælles morgenmad\, så arbejder vi i nogle
  timer inden  \nvi spiser frokost. Efter frokost står den på lidt frisk 
 luft\, inden vi  \nfortsætter det fælles arbejde. Senest kl 16.30 starte
 r vi oprydning\, så vi  \nalle kan tage hjem til vores familie kl 17.00. 
 Af hensyn til indkøb af  \nmorgenmad og frokost\, så må I meget gerne t
 ilmelde jer. På forhånd tak.\n\n\nOg hvad er det så vi skal arbejde med
 ? \n\n- *roller og ansvar\,* Hvem gør hvad\, hvordan og hvornår\, hvilk
 e ting  \nkræver en leder og hvornår er det bedst at det er en forældre
  som løser  \nopaven\, skal vi have forældre/voksen patrulje som støtte
 r op ift diverse  \nopgaver\n\n- *kommunikation*\, hvodan når vi ud til a
 lle relevante samtidigt med at vi  \ntager hensysn til alle? \n\n- *årsh
 jul*\, skal vi lave noget om\, tilføje noget nyt. Kan vi stjæle noget  \
 nfra vores nabo grupper? hvordan kan vi få hjælp f.eks fra divisionen.\n
 \n- *udviklingsplan*\, den vi har er på vej til at udløbe\, så vi skal 
 have en  \nny. \n\n- *ledere rekrutering*\, siden vi besluttede at holde 
 leder bestyrrelses dag\,  \ner det her blevet endnu mere aktuelt. der er g
 ang i at skaffe hjælp fra  \nbåde trop og forældre\n\n- *medlems rekrut
 ering*\, vi oplever ikke den store medlemstilgang\, hvordan  \nændre vi d
 et? Hvis udviklingsplanen siger der skal være 25 spejder per  \ngren\, hv
 ordan skaffer vi så 125-140 medlemmer? \n\n- *forældre kompetancer*\, v
 i har talt meget om hvordan vi laver en liste  \nover forældrenes kompeta
 ncer som vi kan trække på\, men nu skal vi igang.  \nmed involverede for
 ældre vil de også være bedre til at støtte op om deres  \nbørns spejd
 er aktiviteter.    \n\n- *næste leder/bestyrelses dag*?\n\nDet er nogl
 e af dem som vi har talt om\, men måske der er flere emner når vi  \nkom
 mer igang med det? \n\nSå jo der er nok at kaste sig over.\n\nHåber så
  mange som mulig kan deltage og være med til at påvirke ruten for  \nBja
 rke gruppe mod fremtiden.\n\nHvis ikke I kan deltage så fortvivl ikke. De
 r skal nok komme opfølgnings  \nmøder og vi skal også tage det op på v
 ores aftens møder. \n\nPå vegne af formanden.\n\nMed spejderhilsen\n\nP
 alle/Karlstad.\n\n \n\n
URL:https://bjarkegruppe.dk/begivenhed/hvor-er-vi-paa-vej-hen-leder-bestyre
 lses-dag
DTSTART:20250928T070000Z
DTEND:20250928T150000Z
LOCATION:Bjarke Gruppe\, Bjældevej 25\, 4000 Roskilde
END:VEVENT
BEGIN:VEVENT
UID:gruppeweb.dk:2615:event:2268
DTSTAMP:20260421T151104Z
LAST-MODIFIED:20260213T040340Z
SUMMARY:Nytårskur
DESCRIPTION:🎉NYTÅRSKUR 🎉 \n\nKære ledere og bestyrelsesmedlemmer 
  \n\nSom noget ny vil bestyrelsen prøve at afholde en nytårskur for all
 e ledere  \nog bestyrelsesmedlemmer i gruppen. Her vil vi se tilbage på 
 året der er  \ngået og på det nye år vi går i møde\, og have noget t
 id til at hygge  \nleder og bestyrelse imellem. \n\nDato: 24/01-2026 Kl. 
 13:00 \n\nSted: Bjældehytten Bjældevej 25 4000 Roskilde \n\nTilmelding
 : https://medlem.dds.dk/event/id/65449/register [1]  \n\nSu: 10/01-2026
  \n\nProgrammet er at vi mødes og spiser noget lækket med og snakker om
  året  \nder er gået samt om hvad der kan ventes os i det nye år\, efte
 r dette vil  \nder være nogle forskellige aktiviteter samt noget kaffe og
  kage. Der er ikke  \nnoget bestemt slut tidspunkt da vi ellers tænker at
  man kan sidde og hygge  \nsig med evt. nogle spil eller andet efterfølge
 . \n\nDer vil blive søret for både noget at drikke samt noget mad og sn
 aks\, har  \nman nogle allergier må man god skrive det på når man tilme
 lder sig. Vi er  \nfrem til at vi kan få nogle hyggelige timer sammen og 
 se så mange som  \nmuligt. \n\n \n\nSpejderhilsen \n\n\nBestyrelsen\n\
 n\n[1] https://medlem.dds.dk/event/id/65449/register\n
URL:https://bjarkegruppe.dk/begivenhed/nytaarskur
DTSTART:20260124T120000Z
DTEND:20260124T225900Z
LOCATION:Bjarke Gruppe\, Bjældevej 25\, 4000 Roskilde
END:VEVENT
BEGIN:VEVENT
UID:gruppeweb.dk:2615:event:2269
DTSTAMP:20260421T151104Z
LAST-MODIFIED:20260213T082801Z
SUMMARY:Rate 1 - Spejdernes Lejr 2026
DESCRIPTION:*Spejdernes lejr 2026*\n\n*- skal du med?**\n**\n**I\nsommeren 
 2026 samles 30.000 spejdere fra hele Danmark og verden til  \nSpejdernes\n
 Lejr. Det er Nordens største spejderlejr.*\n\n\n\n\nSpejdernes\nLejr fore
 går fra *18. til 26. juli 2026* i *Hedeland Naturpark ved\nRoskilde*. Det
  er dage fuld af sjove aktiviteter\, nye venskaber\, store\noplevelser og 
 masser af spejderliv sammen med dem du kender fra gruppen\, men\nmed rig m
 ulighed for at møde spejdere på tværs af korps fra resten af  \nDanmark
 \nog hele verden.\nVi fra\nBjarke Gruppe skal selvfølgelig også med\, og
  vi håber\, at DU vil være en  \ndel af\noplevelsen!\n\n\n\n*Hvem kan de
 ltage: *\n\nMini\, Junior\, Trop & Klan\n\n\n*Pris:*\n\n1.800 kr. pr. min
 ispejder\n\n3.000 kr. pr. junior\, trop & klanspejder\n\n\n*Hvornår:*\n\n
 *Mini:* 23. juli til 26. juli 2026\n\n*Junior\, Trop & Klan:* 18. juli til
  26. juli 2026\n\n\n*Tilmelding og betaling af 1. rate.*\n\n*Mini:* 900kr.
  \n\n*Junior\, Trop & Klan:* 1.500kr. \n\n\n*Har du spørgsmål - tag fa
 t i din leder!*\n\n\n*Spejderhilsen*\n\nLederne i Bjarke Gruppe\n\n
URL:https://bjarkegruppe.dk/begivenhed/rate-1-spejdernes-lejr-2026
DTSTART:20260718T090000Z
DTEND:20260726T113000Z
LOCATION:Hedeland Naturpark\, Roskilde\, Vindingevej 201\, 4000 Roskilde
END:VEVENT
BEGIN:VEVENT
UID:gruppeweb.dk:2615:event:2359
DTSTAMP:20260421T151104Z
LAST-MODIFIED:20260304T185332Z
SUMMARY:Lederbestyrelses dag
DESCRIPTION:Vi starter kl 9.00 med lidt fælles spisning hvor vi kan komme 
 hinanden ved\,  \nderefter arbejder vi inden vi holder frokost ca kl 12.00
  og så er der noke  \nen kkop kaffe/The inden vi går hjem kl ca 16.00 \
 n\nKan du kun være med lidt af tiden er det også helt ok. \n\nFor at f
 å det bedst mulige møde\, ville det være godt med en hjælpende  \nånd
  der kan hjælpe med: \n\n\n\n-         \nat få handlet ind\,\n
 \n\n\n-         \nat forberede vi kan være i hytten\n\n\n\n-  
        \nhjælpe med at få skrevet vores aftaler gennem\ndagen ned
 \n\n\n\n-         \nat sikre vi kommer igennem programmet\, så a
 lle\nmener de har haft et udbytte af dagen.\n\n\n\n-         \nhj
 ælpe med at servicere alle i løbet af dagen\n\n\n\n-         \n
  at stå\nfor 1 eller 2 samarbejdsøvelser efter middag\n\n\n\n\nHar du m
 ulighed for at hjælpe så må du meget gerne give et\nprej. \n\nHåber a
 t det bliver endnu en god søndag i Bjarke gruppe.  \n\n\n\nHilsner Pall
 e. på formandens vegne.  \n\n
URL:https://bjarkegruppe.dk/begivenhed/lederbestyrelses-dag
DTSTART:20260308T080000Z
DTEND:20260308T150000Z
LOCATION:Bjarke Gruppe\, Bjældevej 25\, 4000 Roskilde
END:VEVENT
BEGIN:VEVENT
UID:gruppeweb.dk:2615:event:2364
DTSTAMP:20260421T151104Z
LAST-MODIFIED:20260408T070559Z
SUMMARY:Dividyst 2026 - Kongslejre Jubilæumsdyst
DESCRIPTION:*Dividyst 2026*\n\n/\nKongslejre Jubilæumsdyst/\n\n/\n/\n\nKon
 gslejre division fylder 35 år og vil derfor gerne holde et brag af en  \n
 jubilæumsdyst\, hvor\nårets tema er vikinger.\n\nVi mødes på Køge Mar
 ina\, hvor lejren etableres. Selve dysten vil foregå  \nom lørdagen\nfor
 skellige steder i Køge.\n\nSøndag der inviteres forældre\, søskende\, 
 bedsteforældre ned på Køge  \nMarina til Spejdernes\ndag kl. 10 – 13.
 \n\n\n*\nHvor:* Køge Marina\n\n*\nHvornår:* Fredag d. 8. maj kl. 18.30 t
 il\nsøndag d. 10. maj kl. 13\n\n*\nHvem: *Mini\, Junior\, Trop og Klan\n\
 n*\nPris: *250 kr. pr. spejder\n\n\nTilmelding foregår på hjemmesiden\n\
 nS.U d. 2. april 2026\n\n\nSpejderlig hilsen\nLederne i Bjarke Gruppe \n\
 n
URL:https://bjarkegruppe.dk/begivenhed/dividyst-2026-kongslejre-jubilaeumsd
 yst
DTSTART:20260508T163000Z
DTEND:20260510T110000Z
LOCATION:Bjarke Gruppe\, Bjældevej 25\, 4000 Roskilde
END:VEVENT
BEGIN:VEVENT
UID:gruppeweb.dk:2615:event:2365
DTSTAMP:20260421T151104Z
LAST-MODIFIED:20260414T081904Z
SUMMARY:Rate 2 - Spejdernes Lejr 2026
DESCRIPTION:*Spejdernes lejr 2026*\n\n*2. rate betaling er nu åbnet til å
 rets sommerlejr. Vi ser frem til en  \nskøn lejr sammen med jer.*\n*Er du
  endnu ikke tilmeldt rate 1\, så kontakt din spejderleder!*\n*2. rate bet
 aling lukker 30. april!*\n*I sommeren 2026 samles 30.000 spejdere fra hele
  Danmark og verden til  \nSpejdernes Lejr. Det er Nordens største spejder
 lejr.*\n\n\n\n\nSpejdernes\nLejr foregår fra *18. til 26. juli 2026* i *H
 edeland Naturpark ved\nRoskilde*. Det er dage fuld af sjove aktiviteter\, 
 nye venskaber\, store\noplevelser og masser af spejderliv sammen med dem d
 u kender fra gruppen\, men\nmed rig mulighed for at møde spejdere på tv
 ærs af korps fra resten af  \nDanmark\nog hele verden.\nVi fra\nBjarke Gr
 uppe skal selvfølgelig også med\, og vi håber\, at DU vil være en  \nd
 el af\noplevelsen!\n\n\n\n*Hvem kan deltage: *\n\nMini\, Junior\, Trop & 
 Klan\n\n\n*Pris:*\n\n1.800 kr. pr. minispejder\n\n3.000 kr. pr. junior\, t
 rop & klanspejder\n\n\n*Hvornår:*\n\n*Mini:* 23. juli til 26. juli 2026\n
 \n*Junior\, Trop & Klan:* 18. juli til 26. juli 2026\n\n\n*Tilmelding og b
 etaling af 2. rate.*\n\n*Mini:* 900kr. \n\n*Junior\, Trop & Klan:* 1.500k
 r. \n\n\n*Har du spørgsmål - tag fat i din leder!*\n\n\n*Spejderhilsen*
 \n\nLederne i Bjarke Gruppe\n\n
URL:https://bjarkegruppe.dk/begivenhed/rate-2-spejdernes-lejr-2026
DTSTART:20260718T090000Z
DTEND:20260726T113000Z
LOCATION:Hedeland Naturpark\, Roskilde\, Vindingevej 201\, 4000 Roskilde
END:VEVENT
END:VCALENDAR
