BEGIN:VCALENDAR
PRODID:-//Det Danske Spejderkorps//NONSGML Gruppeweb//EN
VERSION:2.0
CALSCALE:GREGORIAN
X-PUBLISHED-TTL:PT1H
X-WR-CALNAME:Minier i Bjarke Gruppe
METHOD:PUBLISH
BEGIN:VEVENT
UID:gruppeweb.dk:2615:event:2142
DTSTAMP:20260421T164131Z
LAST-MODIFIED:20250217T105011Z
SUMMARY:Minimøde - Knob og raftebygger
DESCRIPTION:\n
URL:https://bjarkegruppe.dk/begivenhed/minimoede-knob-og-raftebygger-2
DTSTART:20250428T160000Z
DTEND:20250428T173000Z
LOCATION:Bjarke Gruppe\, Bjældevej 25\, 4000 Roskilde
END:VEVENT
BEGIN:VEVENT
UID:gruppeweb.dk:2615:event:2138
DTSTAMP:20260421T164131Z
LAST-MODIFIED:20250217T105007Z
SUMMARY:Minimøde - Knob og raftebygger
DESCRIPTION:\n
URL:https://bjarkegruppe.dk/begivenhed/minimoede-knob-og-raftebygger-1
DTSTART:20250505T160000Z
DTEND:20250505T173000Z
LOCATION:Bjarke Gruppe\, Bjældevej 25\, 4000 Roskilde
END:VEVENT
BEGIN:VEVENT
UID:gruppeweb.dk:2615:event:2136
DTSTAMP:20260421T164131Z
LAST-MODIFIED:20250512T143657Z
SUMMARY:Minimøde - AFLYST
DESCRIPTION:Mødet er i dag dsv. \n\n
URL:https://bjarkegruppe.dk/begivenhed/minimoede-aflyst-2
DTSTART:20250512T160000Z
DTEND:20250512T173000Z
LOCATION:Bjarke Gruppe\, Bjældevej 25\, 4000 Roskilde
END:VEVENT
BEGIN:VEVENT
UID:gruppeweb.dk:2615:event:2137
DTSTAMP:20260421T164131Z
LAST-MODIFIED:20250217T105007Z
SUMMARY:Minimøde - Knob og raftebygger
DESCRIPTION:\n
URL:https://bjarkegruppe.dk/begivenhed/minimoede-knob-og-raftebygger
DTSTART:20250519T160000Z
DTEND:20250519T173000Z
LOCATION:Bjarke Gruppe\, Bjældevej 25\, 4000 Roskilde
END:VEVENT
BEGIN:VEVENT
UID:gruppeweb.dk:2615:event:2140
DTSTAMP:20260421T164131Z
LAST-MODIFIED:20250217T105009Z
SUMMARY:Minimøde - Knob og raftebygger
DESCRIPTION:\n
URL:https://bjarkegruppe.dk/begivenhed/minimoede-knob-og-raftebygger-0
DTSTART:20250519T160000Z
DTEND:20250519T173000Z
LOCATION:Bjarke Gruppe\, Bjældevej 25\, 4000 Roskilde
END:VEVENT
BEGIN:VEVENT
UID:gruppeweb.dk:2615:event:2139
DTSTAMP:20260421T164131Z
LAST-MODIFIED:20250217T105009Z
SUMMARY:Minimøde - Fisk på tur
DESCRIPTION:\n
URL:https://bjarkegruppe.dk/begivenhed/minimoede-fisk-paa-tur
DTSTART:20250526T160000Z
DTEND:20250526T173000Z
LOCATION:Bjarke Gruppe\, Bjældevej 25\, 4000 Roskilde
END:VEVENT
BEGIN:VEVENT
UID:gruppeweb.dk:2615:event:2141
DTSTAMP:20260421T164131Z
LAST-MODIFIED:20250217T105010Z
SUMMARY:Minimøde - Spis naturen
DESCRIPTION:\n
URL:https://bjarkegruppe.dk/begivenhed/minimoede-spis-naturen
DTSTART:20250602T160000Z
DTEND:20250602T173000Z
LOCATION:Bjarke Gruppe\, Bjældevej 25\, 4000 Roskilde
END:VEVENT
BEGIN:VEVENT
UID:gruppeweb.dk:2615:event:2143
DTSTAMP:20260421T164131Z
LAST-MODIFIED:20250217T105011Z
SUMMARY:Minimøde - AFLYST
DESCRIPTION:\n
URL:https://bjarkegruppe.dk/begivenhed/minimoede-aflyst-1
DTSTART:20250609T160000Z
DTEND:20250609T173000Z
LOCATION:Bjarke Gruppe\, Bjældevej 25\, 4000 Roskilde
END:VEVENT
BEGIN:VEVENT
UID:gruppeweb.dk:2615:event:2144
DTSTAMP:20260421T164131Z
LAST-MODIFIED:20250217T105012Z
SUMMARY:Minimøde - Naturbingo
DESCRIPTION:\n
URL:https://bjarkegruppe.dk/begivenhed/minimoede-naturbingo
DTSTART:20250616T160000Z
DTEND:20250616T173000Z
LOCATION:Bjarke Gruppe\, Bjældevej 25\, 4000 Roskilde
END:VEVENT
BEGIN:VEVENT
UID:gruppeweb.dk:2615:event:2135
DTSTAMP:20260421T164131Z
LAST-MODIFIED:20250217T105004Z
SUMMARY:Minimøde - Sommerafslutning (husk badetøj)
DESCRIPTION:\n
URL:https://bjarkegruppe.dk/begivenhed/minimoede-sommerafslutning-husk-bade
 toej
DTSTART:20250623T160000Z
DTEND:20250623T173000Z
LOCATION:Bjarke Gruppe\, Bjældevej 25\, 4000 Roskilde
END:VEVENT
BEGIN:VEVENT
UID:gruppeweb.dk:2615:event:2172
DTSTAMP:20260421T164131Z
LAST-MODIFIED:20250810T200804Z
SUMMARY:Mini-møde: Velkommen tilbage
DESCRIPTION:\n
URL:https://bjarkegruppe.dk/begivenhed/mini-moede-velkommen-tilbage
DTSTART:20250818T160000Z
DTEND:20250818T173000Z
LOCATION:Bjarke Gruppe\, Bjældevej 25\, 4000 Roskilde
END:VEVENT
BEGIN:VEVENT
UID:gruppeweb.dk:2615:event:2056
DTSTAMP:20260421T164131Z
LAST-MODIFIED:20250817T183652Z
SUMMARY:Roskilde Airshow 2025
DESCRIPTION:*Hvilke opgaver skal løses?*\n\nVi skal betjene ølvogne. kør
 e VIP-gæster og opstille og tømme  \naffaldstønder rundt om på hele pl
 adsen.\n\n\n*Hvem kan hjælpe?*\n\nAlle fra tropsspejder (10år) og opefte
 r inklusiv forældre og andre du  \nkender. man skal dog være min. 18 år
  for at står i ølvognene og min. 25  \når og have kørekort for at kør
 e VIP-gæster.\n\n\n*Hvad får jeg for det?*\n\nDu får gratis adgang til 
 Airshowet den dag\, du er på vagt inklusiv let  \nforplejning under din(e
 ) vagt(er).\n\nog så får du selskab af en masse glade mennesker og flyen
 tusiaster. \n\n\nHvis det er lige meget om du står i ølvogn eller samle
 r affald så sætter  \ndu dig på begge dele.\nEller det er også muligt 
 at køre VIP-kørsel om formiddagen og ølvogn  \neller affald om eftermid
 dagen eller omvendt så kan du også det.   \n\nHar du spørgsmål så k
 an du kontakte Christian Skjold Cordes på 60835708  \neller på mail bjar
 keairshow@gmail.com\n\n\n\n\n
URL:https://bjarkegruppe.dk/begivenhed/roskilde-airshow-2025
DTSTART:20250823T040000Z
DTEND:20250824T214500Z
LOCATION:Roskilde Lufthavn\, Lufthavnsvej 30\, 4000 Roskilde
END:VEVENT
BEGIN:VEVENT
UID:gruppeweb.dk:2615:event:2188
DTSTAMP:20260421T164131Z
LAST-MODIFIED:20250817T165727Z
SUMMARY:Mini møde - Knob og rafter - basale knob
DESCRIPTION:\n
URL:https://bjarkegruppe.dk/begivenhed/mini-moede-knob-og-rafter-basale-kno
 b
DTSTART:20250825T160000Z
DTEND:20250825T173000Z
LOCATION:Bjarke Gruppe\, Bjældevej 25\, 4000 Roskilde
END:VEVENT
BEGIN:VEVENT
UID:gruppeweb.dk:2615:event:2192
DTSTAMP:20260421T164131Z
LAST-MODIFIED:20250817T165731Z
SUMMARY:Mini møde - Oprygning
DESCRIPTION:\n
URL:https://bjarkegruppe.dk/begivenhed/mini-moede-oprygning
DTSTART:20250901T160000Z
DTEND:20250901T173000Z
LOCATION:Bjarke Gruppe\, Bjældevej 25\, 4000 Roskilde
END:VEVENT
BEGIN:VEVENT
UID:gruppeweb.dk:2615:event:2189
DTSTAMP:20260421T164131Z
LAST-MODIFIED:20250817T165728Z
SUMMARY:Mini møde - Velkommen til de nye - mad over bål og sikkerhed
DESCRIPTION:\n
URL:https://bjarkegruppe.dk/begivenhed/mini-moede-velkommen-til-de-nye-mad-
 over-baal-og-sikkerhed
DTSTART:20250908T160000Z
DTEND:20250908T173000Z
LOCATION:Bjarke Gruppe\, Bjældevej 25\, 4000 Roskilde
END:VEVENT
BEGIN:VEVENT
UID:gruppeweb.dk:2615:event:2190
DTSTAMP:20260421T164131Z
LAST-MODIFIED:20250817T165730Z
SUMMARY:Mini møde - Mærkerforløb - Kniv og sav
DESCRIPTION:\n
URL:https://bjarkegruppe.dk/begivenhed/mini-moede-maerkerforloeb-kniv-og-sa
 v
DTSTART:20250915T160000Z
DTEND:20250915T173000Z
LOCATION:Bjarke Gruppe\, Bjældevej 25\, 4000 Roskilde
END:VEVENT
BEGIN:VEVENT
UID:gruppeweb.dk:2615:event:2191
DTSTAMP:20260421T164131Z
LAST-MODIFIED:20250817T165730Z
SUMMARY:Mini møde - Mærkerforløb - Kniv og sav
DESCRIPTION:\n
URL:https://bjarkegruppe.dk/begivenhed/mini-moede-maerkerforloeb-kniv-og-sa
 v-0
DTSTART:20250922T160000Z
DTEND:20250922T173000Z
LOCATION:Bjarke Gruppe\, Bjældevej 25\, 4000 Roskilde
END:VEVENT
BEGIN:VEVENT
UID:gruppeweb.dk:2615:event:2193
DTSTAMP:20260421T164131Z
LAST-MODIFIED:20250817T171001Z
SUMMARY:Mini møde - Mærkerforløb - Kniv og sav (Afslutning og prøve)
DESCRIPTION:\n
URL:https://bjarkegruppe.dk/begivenhed/mini-moede-maerkerforloeb-kniv-og-sa
 v-afslutning-og-proeve
DTSTART:20250929T160000Z
DTEND:20250929T173000Z
LOCATION:Bjarke Gruppe\, Bjældevej 25\, 4000 Roskilde
END:VEVENT
BEGIN:VEVENT
UID:gruppeweb.dk:2615:event:2195
DTSTAMP:20260421T164131Z
LAST-MODIFIED:20250817T171003Z
SUMMARY:Mini møde - Mærkeforløb -  En god gerning
DESCRIPTION:\n
URL:https://bjarkegruppe.dk/begivenhed/mini-moede-maerkeforloeb-en-god-gern
 ing
DTSTART:20251006T160000Z
DTEND:20251006T173000Z
LOCATION:Bjarke Gruppe\, Bjældevej 25\, 4000 Roskilde
END:VEVENT
BEGIN:VEVENT
UID:gruppeweb.dk:2615:event:2201
DTSTAMP:20260421T164131Z
LAST-MODIFIED:20250817T171008Z
SUMMARY:Mini møde - Aflyst pga. Efterårsferie
DESCRIPTION:\n
URL:https://bjarkegruppe.dk/begivenhed/mini-moede-aflyst-pga-efteraarsferie
DTSTART:20251013T160000Z
DTEND:20251013T173000Z
LOCATION:Bjarke Gruppe\, Bjældevej 25\, 4000 Roskilde
END:VEVENT
BEGIN:VEVENT
UID:gruppeweb.dk:2615:event:2197
DTSTAMP:20260421T164131Z
LAST-MODIFIED:20250817T171005Z
SUMMARY:Mini møde - Mærkerforløb - en god gerning (Skraldeindsamling)
DESCRIPTION:\n
URL:https://bjarkegruppe.dk/begivenhed/mini-moede-maerkerforloeb-en-god-ger
 ning-skraldeindsamling
DTSTART:20251020T160000Z
DTEND:20251020T173000Z
LOCATION:Bjarke Gruppe\, Bjældevej 25\, 4000 Roskilde
END:VEVENT
BEGIN:VEVENT
UID:gruppeweb.dk:2615:event:2196
DTSTAMP:20260421T164131Z
LAST-MODIFIED:20250817T171004Z
SUMMARY:Mini møde - Aflyst pga. Vintertidstur
DESCRIPTION:\n
URL:https://bjarkegruppe.dk/begivenhed/mini-moede-aflyst-pga-vintertidstur
DTSTART:20251027T170000Z
DTEND:20251027T183000Z
LOCATION:Bjarke Gruppe\, Bjældevej 25\, 4000 Roskilde
END:VEVENT
BEGIN:VEVENT
UID:gruppeweb.dk:2615:event:2200
DTSTAMP:20260421T164131Z
LAST-MODIFIED:20250817T171007Z
SUMMARY:Mini møde - Mærkerforløb - En god gerning
DESCRIPTION:\n
URL:https://bjarkegruppe.dk/begivenhed/mini-moede-maerkerforloeb-en-god-ger
 ning
DTSTART:20251103T170000Z
DTEND:20251103T183000Z
LOCATION:Bjarke Gruppe\, Bjældevej 25\, 4000 Roskilde
END:VEVENT
BEGIN:VEVENT
UID:gruppeweb.dk:2615:event:2199
DTSTAMP:20260421T164131Z
LAST-MODIFIED:20250817T171006Z
SUMMARY:Mini møde - Gåtur (5 km)
DESCRIPTION:\n
URL:https://bjarkegruppe.dk/begivenhed/mini-moede-gaatur-5-km
DTSTART:20251110T170000Z
DTEND:20251110T183000Z
LOCATION:Bjarke Gruppe\, Bjældevej 25\, 4000 Roskilde
END:VEVENT
BEGIN:VEVENT
UID:gruppeweb.dk:2615:event:2194
DTSTAMP:20260421T164131Z
LAST-MODIFIED:20250817T171002Z
SUMMARY:Mini møde - Lav jeres eget løb
DESCRIPTION:\n
URL:https://bjarkegruppe.dk/begivenhed/mini-moede-lav-jeres-eget-loeb
DTSTART:20251117T170000Z
DTEND:20251117T183000Z
LOCATION:Bjarke Gruppe\, Bjældevej 25\, 4000 Roskilde
END:VEVENT
BEGIN:VEVENT
UID:gruppeweb.dk:2615:event:2198
DTSTAMP:20260421T164131Z
LAST-MODIFIED:20250817T171006Z
SUMMARY:Mini møde - Lav jeres eget løb
DESCRIPTION:\n
URL:https://bjarkegruppe.dk/begivenhed/mini-moede-lav-jeres-eget-loeb-0
DTSTART:20251124T170000Z
DTEND:20251124T183000Z
LOCATION:Bjarke Gruppe\, Bjældevej 25\, 4000 Roskilde
END:VEVENT
BEGIN:VEVENT
UID:gruppeweb.dk:2615:event:2202
DTSTAMP:20260421T164131Z
LAST-MODIFIED:20250817T171009Z
SUMMARY:Mini møde - Lav jeres eget løb (Afslutning)
DESCRIPTION:Husk nissehue \n\n
URL:https://bjarkegruppe.dk/begivenhed/mini-moede-lav-jeres-eget-loeb-afslu
 tning
DTSTART:20251201T170000Z
DTEND:20251201T183000Z
LOCATION:Bjarke Gruppe\, Bjældevej 25\, 4000 Roskilde
END:VEVENT
BEGIN:VEVENT
UID:gruppeweb.dk:2615:event:2267
DTSTAMP:20260421T164131Z
LAST-MODIFIED:20260213T040346Z
SUMMARY:slag af lodsedler
DESCRIPTION:*\n*\n\nKære spejdere\, forældre og venner af Bjarke Gruppen\
 n\nSom mange ved\, har vi i Bjarke Gruppen hvert år haft forskellige  \nb
 egivenheder\, der har givet os lidt ekstra indkomst til sjove aktiviteter 
 og  \nspændende ture.\nDesværre bliver 2026 et lidt anderledes år – v
 i har nemlig ikke nogle  \nindtægtsgivende arrangementer i kalenderen.\n\
 nMen! 💪\nBestyrelsen har derfor været på udkig efter nye muligheder\,
  og vi har fået  \nen fantastisk chance for at støtte et godt formål 
 – og samtidig tjene  \nlidt til gruppen.\n\nVi har indgået et samarbejd
 e med Kræftens Bekæmpelse\, som har brug for  \nhjælp til at sælge lod
 der i lokalområdet. Alt foregår via deres app\, så  \nder er ingen peng
 ehåndtering – det hele klares digitalt og sikkert.\nFor hvert lod\, vi 
 sælger til 50 kr.\, får Bjarke Gruppen 20 kr. til vores  \nfælles aktiv
 iteter og ture. 🙌\n\n📅 Søndag den 7. december kl. 10:00 mødes vi i
  hytten\, hvor vi starter  \nmed en kort introduktion og fordeling af omr
 åder.\nDerefter går vi ud i ca. 2 timer for at samle ind til den gode sa
 g.\n\nEfterfølge vil der være noget varmt at drikke og æbleskiver i hyt
 ten. \n\nSå kom frisk – tag uniformen på\, et smil med\, og vær med 
 til at gøre en  \nforskel for både\nBjarke Gruppen og Kræftens Bekæmpe
 lse! 💛\n\nKan man ikke deltage på dagen er man velkommen at tage fat i
  Christian på  \n60835708 eller på formand@bjarkegruppe.dk [1]. hvis man
  godt vil sælge  \nnogle udover på dagen. \n\nFor vi bedst mulig at kun
 ne planlægge ruter og hold\nmå i gerne gerne melde retur hvor mange der 
 kommer.\n\nVi glæder os til at se jer!\n\nSpejderhilsen\nBjarke Gruppens 
 bestyrelse      \n\n\n\n[1] mailto:formand@bjarkegruppe.dk\n
URL:https://bjarkegruppe.dk/begivenhed/slag-af-lodsedler
DTSTART:20251207T090000Z
DTEND:20251207T113000Z
LOCATION:Bjarke Gruppe\, Bjældevej 25\, 4000 Roskilde
END:VEVENT
BEGIN:VEVENT
UID:gruppeweb.dk:2615:event:2203
DTSTAMP:20260421T164131Z
LAST-MODIFIED:20250817T171641Z
SUMMARY:Mini møde - Juleafslutning med hygge og pakkeleg
DESCRIPTION:Medbring to pakker af 10 kr. eller en pakke til 20 kr. \n\nMed
 bring også gerne en nissehue\n\n
URL:https://bjarkegruppe.dk/begivenhed/mini-moede-juleafslutning-med-hygge-
 og-pakkeleg
DTSTART:20251208T170000Z
DTEND:20251208T183000Z
LOCATION:Bjarke Gruppe\, Bjældevej 25\, 4000 Roskilde
END:VEVENT
BEGIN:VEVENT
UID:gruppeweb.dk:2615:event:2331
DTSTAMP:20260421T164131Z
LAST-MODIFIED:20260120T205258Z
SUMMARY:Minimøde - Førstehjælp
DESCRIPTION:\n
URL:https://bjarkegruppe.dk/begivenhed/minimoede-foerstehjaelp-3
DTSTART:20260112T170000Z
DTEND:20260112T183000Z
LOCATION:Bjarke Gruppe\, Bjældevej 25\, 4000 Roskilde
END:VEVENT
BEGIN:VEVENT
UID:gruppeweb.dk:2615:event:2336
DTSTAMP:20260421T164131Z
LAST-MODIFIED:20260120T210613Z
SUMMARY:Minimøde - Førstehjælp
DESCRIPTION:\n
URL:https://bjarkegruppe.dk/begivenhed/minimoede-foerstehjaelp-5
DTSTART:20260119T170000Z
DTEND:20260119T183000Z
LOCATION:Bjarke Gruppe\, Bjældevej 25\, 4000 Roskilde
END:VEVENT
BEGIN:VEVENT
UID:gruppeweb.dk:2615:event:2334
DTSTAMP:20260421T164131Z
LAST-MODIFIED:20260120T210612Z
SUMMARY:Minimøde - Førstehjælp
DESCRIPTION:\n
URL:https://bjarkegruppe.dk/begivenhed/minimoede-foerstehjaelp-4
DTSTART:20260202T170000Z
DTEND:20260202T183000Z
LOCATION:Bjarke Gruppe\, Bjældevej 25\, 4000 Roskilde
END:VEVENT
BEGIN:VEVENT
UID:gruppeweb.dk:2615:event:2298
DTSTAMP:20260421T164131Z
LAST-MODIFIED:20260213T040233Z
SUMMARY:Grupperådsmøde
DESCRIPTION:*Grupperådsmøde*\nBjarke Gruppe inviterer til grupperådsmød
 e for forældre og ledere.\n\nSøndag d. 8. februar 2026\n\n\n\nKl. 10 - 1
 3\n\n\n\nBjældehytten\, Bjældevej 25\, 4000 Roskilde\n\n\n\n\nMens\ngrup
 perådsmødet afholdes\, arrangerer vi fastelavn med tøndeslagning for\ns
 pejdere og deres søskende.\n\n\n\nAlle børn er meget velkomne – gerne 
 udklædte!\n\n\n\n \n\nDer vil\nblive serveret fastelavnsboller\, inden m
 ødet slutter.\n\n\n\nVi håber at\nse mange både til mødet og fastelavn
 .\n\n\n\nTilmeld jer\npå hjemmesiden.\n\n\n\n \n\n*Spejderhilsen\n*\n\n\
 n\nBjarke\nGruppe \n\n\n\n
URL:https://bjarkegruppe.dk/begivenhed/grupperaadsmoede-1
DTSTART:20260208T090000Z
DTEND:20260208T120000Z
LOCATION:Bjarke Gruppe\, Bjældevej 25\, 4000 Roskilde
END:VEVENT
BEGIN:VEVENT
UID:gruppeweb.dk:2615:event:2335
DTSTAMP:20260421T164131Z
LAST-MODIFIED:20260120T210613Z
SUMMARY:Minimøde - Hvem er jeg
DESCRIPTION:\n
URL:https://bjarkegruppe.dk/begivenhed/minimoede-hvem-er-jeg-0
DTSTART:20260209T170000Z
DTEND:20260209T183000Z
LOCATION:Bjarke Gruppe\, Bjældevej 25\, 4000 Roskilde
END:VEVENT
BEGIN:VEVENT
UID:gruppeweb.dk:2615:event:2337
DTSTAMP:20260421T164131Z
LAST-MODIFIED:20260120T210614Z
SUMMARY:Minimøde - AFLYST
DESCRIPTION:\n
URL:https://bjarkegruppe.dk/begivenhed/minimoede-aflyst-3
DTSTART;VALUE=DATE:20260216
LOCATION:Bjarke Gruppe\, Bjældevej 25\, 4000 Roskilde
END:VEVENT
BEGIN:VEVENT
UID:gruppeweb.dk:2615:event:2340
DTSTAMP:20260421T164131Z
LAST-MODIFIED:20260120T210615Z
SUMMARY:Minimøde - Tænkedag
DESCRIPTION:\n
URL:https://bjarkegruppe.dk/begivenhed/minimoede-taenkedag-0
DTSTART:20260223T170000Z
DTEND:20260223T183000Z
LOCATION:Bjarke Gruppe\, Bjældevej 25\, 4000 Roskilde
END:VEVENT
BEGIN:VEVENT
UID:gruppeweb.dk:2615:event:2333
DTSTAMP:20260421T164131Z
LAST-MODIFIED:20260120T210611Z
SUMMARY:Minimøde - Hvem er jeg
DESCRIPTION:\n
URL:https://bjarkegruppe.dk/begivenhed/minimoede-hvem-er-jeg
DTSTART:20260302T170000Z
DTEND:20260302T183000Z
LOCATION:Bjarke Gruppe\, Bjældevej 25\, 4000 Roskilde
END:VEVENT
BEGIN:VEVENT
UID:gruppeweb.dk:2615:event:2338
DTSTAMP:20260421T164131Z
LAST-MODIFIED:20260120T210614Z
SUMMARY:Minimøde - Hvem er jeg
DESCRIPTION:\n
URL:https://bjarkegruppe.dk/begivenhed/minimoede-hvem-er-jeg-1
DTSTART:20260309T170000Z
DTEND:20260309T183000Z
LOCATION:Bjarke Gruppe\, Bjældevej 25\, 4000 Roskilde
END:VEVENT
BEGIN:VEVENT
UID:gruppeweb.dk:2615:event:2332
DTSTAMP:20260421T164131Z
LAST-MODIFIED:20260120T210608Z
SUMMARY:Minimøde - Bål og rygsækpakning til weekendtur og sommerlejr
DESCRIPTION:\n
URL:https://bjarkegruppe.dk/begivenhed/minimoede-baal-og-rygsaekpakning-til
 -weekendtur-og-sommerlejr
DTSTART:20260316T170000Z
DTEND:20260316T183000Z
LOCATION:Bjarke Gruppe\, Bjældevej 25\, 4000 Roskilde
END:VEVENT
BEGIN:VEVENT
UID:gruppeweb.dk:2615:event:2241
DTSTAMP:20260421T164131Z
LAST-MODIFIED:20251021T113801Z
SUMMARY:Sommertidstur 2026
DESCRIPTION:\n
URL:https://bjarkegruppe.dk/begivenhed/sommertidstur-2026
DTSTART;VALUE=DATE:20260321
DTEND;VALUE=DATE:20260323
LOCATION:Bjarke Gruppe\, Bjældevej 25\, 4000 Roskilde
END:VEVENT
BEGIN:VEVENT
UID:gruppeweb.dk:2615:event:2348
DTSTAMP:20260421T164131Z
LAST-MODIFIED:20260120T211711Z
SUMMARY:Sommertidstur - Mere info følger
DESCRIPTION:\n
URL:https://bjarkegruppe.dk/begivenhed/sommertidstur-mere-info-foelger
DTSTART;VALUE=DATE:20260321
DTEND;VALUE=DATE:20260323
LOCATION:Bjarke Gruppe\, Bjældevej 25\, 4000 Roskilde
END:VEVENT
BEGIN:VEVENT
UID:gruppeweb.dk:2615:event:2360
DTSTAMP:20260421T164131Z
LAST-MODIFIED:20260315T183139Z
SUMMARY:Sommertidstur 2026
DESCRIPTION:Indbydelse til sommertidstur 2026\nKom udklædt som din yndling
 s detektiv !!\nVi vil gerne indbyde alle spejder\, søskende og forældre 
 til vores\nsommertidstur\,\nsom afholdes d.21-22 marts 2026\nStedet er ”
 klinteborg” Adresse er\nRibsvej 9\, 4550 Fårevejle.\nVi mødes kl.10 l
 ørdag og tager hjem igen søndag kl.11\nVi skal hjælpe Holmes og Watson 
 med at løse\nspejdermysteriet\nAlt det vil foregå i et stjerneløb hvor 
 i konkurrerer mod hinanden i\npatruljerne som i er delt op i.\nMikro\, min
 i sover indenfor sammen med deres forældre og junior og\ntrop sover udenf
 or. Forældre til junior og trop kan sove indenfor.\n\n\n\nTing du skal ha
 ve med\nDet du skal medbringe er\, hvis du sover inde\, skal du medbringe 
 lagen\,  \nsovepose/dyne\n”Hovedpude”\, sovedyr\, tøj til vejret\, de
 t kan god sne i slutningen af  \nmarts måned\, tørklæde\,\nuniform hvis
  du har\, toiletgrej\, indendørs sutter\, lommelygte og det du  \nmener d
 u har brug for\ntil denne herlige weekend.\nDet du skal medbringe er\, hvi
 s du sover ude\, skal du medbringe sovepose\,  \nliggeunderlag\,\n”hoved
 pude”\, sovedyr\, tøj til vejret\, det kan godt sne i slutningen af  \n
 marts måned\, tørklæde\,\nuniform hvis du har\, toiletgrej\, indendørs
  sutter\, lommelygte og det du  \nmener du har brug for\ntil denne herlig 
 weekend.\nTilmelding til sommertidstur\nTilmelding foregår på vores hjem
 meside\, sammen med betaling\nsenest fredag d.13/3-2026*\n*\n\n
URL:https://bjarkegruppe.dk/begivenhed/sommertidstur-2026-0
DTSTART:20260321T090000Z
DTEND:20260322T100000Z
LOCATION:Klinteborg
END:VEVENT
BEGIN:VEVENT
UID:gruppeweb.dk:2615:event:2347
DTSTAMP:20260421T164131Z
LAST-MODIFIED:20260120T211710Z
SUMMARY:Minimøde - AFLYST grundet tur
DESCRIPTION:\n
URL:https://bjarkegruppe.dk/begivenhed/minimoede-aflyst-grundet-tur
DTSTART;VALUE=DATE:20260323
LOCATION:Bjarke Gruppe\, Bjældevej 25\, 4000 Roskilde
END:VEVENT
BEGIN:VEVENT
UID:gruppeweb.dk:2615:event:2342
DTSTAMP:20260421T164131Z
LAST-MODIFIED:20260120T211704Z
SUMMARY:Minimøde - AFLYST (påskeferie)
DESCRIPTION:\n
URL:https://bjarkegruppe.dk/begivenhed/minimoede-aflyst-paaskeferie
DTSTART;VALUE=DATE:20260330
LOCATION:Bjarke Gruppe\, Bjældevej 25\, 4000 Roskilde
END:VEVENT
BEGIN:VEVENT
UID:gruppeweb.dk:2615:event:2346
DTSTAMP:20260421T164131Z
LAST-MODIFIED:20260120T211709Z
SUMMARY:Minimøde - AFLYST (påske)
DESCRIPTION:\n
URL:https://bjarkegruppe.dk/begivenhed/minimoede-aflyst-paaske-1
DTSTART;VALUE=DATE:20260406
LOCATION:Bjarke Gruppe\, Bjældevej 25\, 4000 Roskilde
END:VEVENT
BEGIN:VEVENT
UID:gruppeweb.dk:2615:event:2369
DTSTAMP:20260421T164131Z
LAST-MODIFIED:20260325T180122Z
SUMMARY:Arbejdsdag
DESCRIPTION:\n
URL:https://bjarkegruppe.dk/begivenhed/arbejdsdag-4
DTSTART:20260412T080000Z
DTEND:20260412T130000Z
LOCATION:Bjarke Gruppe\, Bjældevej 25\, 4000 Roskilde
END:VEVENT
BEGIN:VEVENT
UID:gruppeweb.dk:2615:event:2345
DTSTAMP:20260421T164131Z
LAST-MODIFIED:20260120T211707Z
SUMMARY:Minimøde - Kulturspejder
DESCRIPTION:\n
URL:https://bjarkegruppe.dk/begivenhed/minimoede-kulturspejder-4
DTSTART:20260413T160000Z
DTEND:20260413T173000Z
LOCATION:Bjarke Gruppe\, Bjældevej 25\, 4000 Roskilde
END:VEVENT
BEGIN:VEVENT
UID:gruppeweb.dk:2615:event:2343
DTSTAMP:20260421T164131Z
LAST-MODIFIED:20260120T211705Z
SUMMARY:Minimøde - Sct. Georgs dag
DESCRIPTION:\n
URL:https://bjarkegruppe.dk/begivenhed/minimoede-sct-georgs-dag
DTSTART:20260420T160000Z
DTEND:20260420T173000Z
LOCATION:Bjarke Gruppe\, Bjældevej 25\, 4000 Roskilde
END:VEVENT
BEGIN:VEVENT
UID:gruppeweb.dk:2615:event:2344
DTSTAMP:20260421T164131Z
LAST-MODIFIED:20260120T211707Z
SUMMARY:Minimøde - Kulturspejder
DESCRIPTION:\n
URL:https://bjarkegruppe.dk/begivenhed/minimoede-kulturspejder-3
DTSTART:20260427T160000Z
DTEND:20260427T173000Z
LOCATION:Bjarke Gruppe\, Bjældevej 25\, 4000 Roskilde
END:VEVENT
BEGIN:VEVENT
UID:gruppeweb.dk:2615:event:2341
DTSTAMP:20260421T164131Z
LAST-MODIFIED:20260120T211702Z
SUMMARY:Minimøde - Kulturspejder
DESCRIPTION:\n
URL:https://bjarkegruppe.dk/begivenhed/minimoede-kulturspejder-2
DTSTART:20260504T160000Z
DTEND:20260504T173000Z
LOCATION:Bjarke Gruppe\, Bjældevej 25\, 4000 Roskilde
END:VEVENT
BEGIN:VEVENT
UID:gruppeweb.dk:2615:event:2364
DTSTAMP:20260421T164131Z
LAST-MODIFIED:20260408T070559Z
SUMMARY:Dividyst 2026 - Kongslejre Jubilæumsdyst
DESCRIPTION:*Dividyst 2026*\n\n/\nKongslejre Jubilæumsdyst/\n\n/\n/\n\nKon
 gslejre division fylder 35 år og vil derfor gerne holde et brag af en  \n
 jubilæumsdyst\, hvor\nårets tema er vikinger.\n\nVi mødes på Køge Mar
 ina\, hvor lejren etableres. Selve dysten vil foregå  \nom lørdagen\nfor
 skellige steder i Køge.\n\nSøndag der inviteres forældre\, søskende\, 
 bedsteforældre ned på Køge  \nMarina til Spejdernes\ndag kl. 10 – 13.
 \n\n\n*\nHvor:* Køge Marina\n\n*\nHvornår:* Fredag d. 8. maj kl. 18.30 t
 il\nsøndag d. 10. maj kl. 13\n\n*\nHvem: *Mini\, Junior\, Trop og Klan\n\
 n*\nPris: *250 kr. pr. spejder\n\n\nTilmelding foregår på hjemmesiden\n\
 nS.U d. 2. april 2026\n\n\nSpejderlig hilsen\nLederne i Bjarke Gruppe \n\
 n
URL:https://bjarkegruppe.dk/begivenhed/dividyst-2026-kongslejre-jubilaeumsd
 yst
DTSTART:20260508T163000Z
DTEND:20260510T110000Z
LOCATION:Bjarke Gruppe\, Bjældevej 25\, 4000 Roskilde
END:VEVENT
BEGIN:VEVENT
UID:gruppeweb.dk:2615:event:2354
DTSTAMP:20260421T164131Z
LAST-MODIFIED:20260120T212753Z
SUMMARY:Minimøde - Bål
DESCRIPTION:\n
URL:https://bjarkegruppe.dk/begivenhed/minimoede-baal-0
DTSTART:20260511T160000Z
DTEND:20260511T173000Z
LOCATION:Bjarke Gruppe\, Bjældevej 25\, 4000 Roskilde
END:VEVENT
BEGIN:VEVENT
UID:gruppeweb.dk:2615:event:2355
DTSTAMP:20260421T164131Z
LAST-MODIFIED:20260120T212753Z
SUMMARY:Minimøde - Telt opslagning
DESCRIPTION:\n
URL:https://bjarkegruppe.dk/begivenhed/minimoede-telt-opslagning-0
DTSTART:20260518T160000Z
DTEND:20260518T173000Z
LOCATION:Bjarke Gruppe\, Bjældevej 25\, 4000 Roskilde
END:VEVENT
BEGIN:VEVENT
UID:gruppeweb.dk:2615:event:2353
DTSTAMP:20260421T164131Z
LAST-MODIFIED:20260120T212752Z
SUMMARY:Minimøde - AFLYST (2. pinsedag)
DESCRIPTION:\n
URL:https://bjarkegruppe.dk/begivenhed/minimoede-aflyst-2-pinsedag
DTSTART;VALUE=DATE:20260525
LOCATION:Bjarke Gruppe\, Bjældevej 25\, 4000 Roskilde
END:VEVENT
BEGIN:VEVENT
UID:gruppeweb.dk:2615:event:2350
DTSTAMP:20260421T164131Z
LAST-MODIFIED:20260120T212749Z
SUMMARY:Minimøde - Telt opslagning
DESCRIPTION:\n
URL:https://bjarkegruppe.dk/begivenhed/minimoede-telt-opslagning
DTSTART:20260601T160000Z
DTEND:20260601T173000Z
LOCATION:Bjarke Gruppe\, Bjældevej 25\, 4000 Roskilde
END:VEVENT
BEGIN:VEVENT
UID:gruppeweb.dk:2615:event:2351
DTSTAMP:20260421T164131Z
LAST-MODIFIED:20260120T212750Z
SUMMARY:Minimøde - Bål
DESCRIPTION:\n
URL:https://bjarkegruppe.dk/begivenhed/minimoede-baal
DTSTART:20260608T160000Z
DTEND:20260608T173000Z
LOCATION:Bjarke Gruppe\, Bjældevej 25\, 4000 Roskilde
END:VEVENT
BEGIN:VEVENT
UID:gruppeweb.dk:2615:event:2352
DTSTAMP:20260421T164131Z
LAST-MODIFIED:20260120T212751Z
SUMMARY:Minimøde - Kniv og knob
DESCRIPTION:\n
URL:https://bjarkegruppe.dk/begivenhed/minimoede-kniv-og-knob
DTSTART:20260615T160000Z
DTEND:20260615T173000Z
LOCATION:Bjarke Gruppe\, Bjældevej 25\, 4000 Roskilde
END:VEVENT
BEGIN:VEVENT
UID:gruppeweb.dk:2615:event:2349
DTSTAMP:20260421T164131Z
LAST-MODIFIED:20260120T212746Z
SUMMARY:Minimøde - Sommerafslutning
DESCRIPTION:\n
URL:https://bjarkegruppe.dk/begivenhed/minimoede-sommerafslutning-3
DTSTART:20260622T160000Z
DTEND:20260622T173000Z
LOCATION:Bjarke Gruppe\, Bjældevej 25\, 4000 Roskilde
END:VEVENT
BEGIN:VEVENT
UID:gruppeweb.dk:2615:event:2269
DTSTAMP:20260421T164131Z
LAST-MODIFIED:20260213T082801Z
SUMMARY:Rate 1 - Spejdernes Lejr 2026
DESCRIPTION:*Spejdernes lejr 2026*\n\n*- skal du med?**\n**\n**I\nsommeren 
 2026 samles 30.000 spejdere fra hele Danmark og verden til  \nSpejdernes\n
 Lejr. Det er Nordens største spejderlejr.*\n\n\n\n\nSpejdernes\nLejr fore
 går fra *18. til 26. juli 2026* i *Hedeland Naturpark ved\nRoskilde*. Det
  er dage fuld af sjove aktiviteter\, nye venskaber\, store\noplevelser og 
 masser af spejderliv sammen med dem du kender fra gruppen\, men\nmed rig m
 ulighed for at møde spejdere på tværs af korps fra resten af  \nDanmark
 \nog hele verden.\nVi fra\nBjarke Gruppe skal selvfølgelig også med\, og
  vi håber\, at DU vil være en  \ndel af\noplevelsen!\n\n\n\n*Hvem kan de
 ltage: *\n\nMini\, Junior\, Trop & Klan\n\n\n*Pris:*\n\n1.800 kr. pr. min
 ispejder\n\n3.000 kr. pr. junior\, trop & klanspejder\n\n\n*Hvornår:*\n\n
 *Mini:* 23. juli til 26. juli 2026\n\n*Junior\, Trop & Klan:* 18. juli til
  26. juli 2026\n\n\n*Tilmelding og betaling af 1. rate.*\n\n*Mini:* 900kr.
  \n\n*Junior\, Trop & Klan:* 1.500kr. \n\n\n*Har du spørgsmål - tag fa
 t i din leder!*\n\n\n*Spejderhilsen*\n\nLederne i Bjarke Gruppe\n\n
URL:https://bjarkegruppe.dk/begivenhed/rate-1-spejdernes-lejr-2026
DTSTART:20260718T090000Z
DTEND:20260726T113000Z
LOCATION:Hedeland Naturpark\, Roskilde\, Vindingevej 201\, 4000 Roskilde
END:VEVENT
BEGIN:VEVENT
UID:gruppeweb.dk:2615:event:2365
DTSTAMP:20260421T164131Z
LAST-MODIFIED:20260414T081904Z
SUMMARY:Rate 2 - Spejdernes Lejr 2026
DESCRIPTION:*Spejdernes lejr 2026*\n\n*2. rate betaling er nu åbnet til å
 rets sommerlejr. Vi ser frem til en  \nskøn lejr sammen med jer.*\n*Er du
  endnu ikke tilmeldt rate 1\, så kontakt din spejderleder!*\n*2. rate bet
 aling lukker 30. april!*\n*I sommeren 2026 samles 30.000 spejdere fra hele
  Danmark og verden til  \nSpejdernes Lejr. Det er Nordens største spejder
 lejr.*\n\n\n\n\nSpejdernes\nLejr foregår fra *18. til 26. juli 2026* i *H
 edeland Naturpark ved\nRoskilde*. Det er dage fuld af sjove aktiviteter\, 
 nye venskaber\, store\noplevelser og masser af spejderliv sammen med dem d
 u kender fra gruppen\, men\nmed rig mulighed for at møde spejdere på tv
 ærs af korps fra resten af  \nDanmark\nog hele verden.\nVi fra\nBjarke Gr
 uppe skal selvfølgelig også med\, og vi håber\, at DU vil være en  \nd
 el af\noplevelsen!\n\n\n\n*Hvem kan deltage: *\n\nMini\, Junior\, Trop & 
 Klan\n\n\n*Pris:*\n\n1.800 kr. pr. minispejder\n\n3.000 kr. pr. junior\, t
 rop & klanspejder\n\n\n*Hvornår:*\n\n*Mini:* 23. juli til 26. juli 2026\n
 \n*Junior\, Trop & Klan:* 18. juli til 26. juli 2026\n\n\n*Tilmelding og b
 etaling af 2. rate.*\n\n*Mini:* 900kr. \n\n*Junior\, Trop & Klan:* 1.500k
 r. \n\n\n*Har du spørgsmål - tag fat i din leder!*\n\n\n*Spejderhilsen*
 \n\nLederne i Bjarke Gruppe\n\n
URL:https://bjarkegruppe.dk/begivenhed/rate-2-spejdernes-lejr-2026
DTSTART:20260718T090000Z
DTEND:20260726T113000Z
LOCATION:Hedeland Naturpark\, Roskilde\, Vindingevej 201\, 4000 Roskilde
END:VEVENT
BEGIN:VEVENT
UID:gruppeweb.dk:2615:event:2259
DTSTAMP:20260421T164131Z
LAST-MODIFIED:20251021T124011Z
SUMMARY:Oprykning
DESCRIPTION:\n
URL:https://bjarkegruppe.dk/begivenhed/oprykning-3
DTSTART:20260903T160000Z
DTEND:20260903T180000Z
LOCATION:Bjarke Gruppe\, Bjældevej 25\, 4000 Roskilde
END:VEVENT
END:VCALENDAR
